BEGIN:VCALENDAR
VERSION:2.0
PRODID:-//wp-events-plugin.com//7.2.3.1//EN
BEGIN:VEVENT
UID:10059@pilgrimchurch.us
DTSTART;TZID=America/New_York:20251115T120000
DTEND;TZID=America/New_York:20251115T160000
DTSTAMP:20250714T155959Z
URL:https://pilgrimchurch.us/calendar/assabet-valley-mastersingers-rehears
 al-2/
SUMMARY:Assabet Valley Mastersingers Rehearsal
DESCRIPTION:Assabet Valley Mastersingers Rehearsal (Bob Eaton)
CATEGORIES:Outside Groups
LOCATION:Pilgrim Church Sanctuary\, 15 Common St\, Southborough\, MA\, 0177
 2\, United States
GEO:42.3064043;-71.5315966
X-APPLE-STRUCTURED-LOCATION;VALUE=URI;X-ADDRESS=15 Common St\, Southborough
 \, MA\, 01772\, United States;X-APPLE-RADIUS=100;X-TITLE=Pilgrim Church Sa
 nctuary:geo:42.3064043,-71.5315966
END:VEVENT
BEGIN:VTIMEZONE
TZID:America/New_York
X-LIC-LOCATION:America/New_York
BEGIN:STANDARD
DTSTART:20251102T010000
TZOFFSETFROM:-0400
TZOFFSETTO:-0500
TZNAME:EST
END:STANDARD
END:VTIMEZONE
END:VCALENDAR