BEGIN:VCALENDAR
VERSION:2.0
PRODID:-//wp-events-plugin.com//7.2.3.1//EN
BEGIN:VEVENT
UID:10284@pilgrimchurch.us
DTSTART;TZID=America/New_York:20260519T190000
DTEND;TZID=America/New_York:20260519T210000
DTSTAMP:20250821T152038Z
URL:https://pilgrimchurch.us/calendar/bell-choir-rehearsal-8-2025-08-26-20
 25-09-02-2025-09-09-2025-09-16-2025-09-23-2025-09-30-2025-10-07-2025-10-14
 -2025-10-21-2025-10-28-2025-11-04-2025-11-11-2025-11-18-2025-11-25-2025-12
 -0-12-2026-05-19/
SUMMARY:Bell Choir Rehearsal
DESCRIPTION:Bell Choir Rehearsal (Carla Mason) The bell choir meets to rehe
 arse most Tuesdays from 7:00-9:00 p.m. mid-September through May and plays
  once a month during the worship service.
CATEGORIES:Small Groups
LOCATION:Pilgrim Church Sanctuary\, 15 Common St\, Southborough\, MA\, 0177
 2\, United States
GEO:42.3064043;-71.5315966
X-APPLE-STRUCTURED-LOCATION;VALUE=URI;X-ADDRESS=15 Common St\, Southborough
 \, MA\, 01772\, United States;X-APPLE-RADIUS=100;X-TITLE=Pilgrim Church Sa
 nctuary:geo:42.3064043,-71.5315966
END:VEVENT
BEGIN:VTIMEZONE
TZID:America/New_York
X-LIC-LOCATION:America/New_York
BEGIN:DAYLIGHT
DTSTART:20260308T030000
TZOFFSETFROM:-0500
TZOFFSETTO:-0400
TZNAME:EDT
END:DAYLIGHT
END:VTIMEZONE
END:VCALENDAR