BEGIN:VCALENDAR
VERSION:2.0
PRODID:-//wp-events-plugin.com//7.2.3.1//EN
BEGIN:VEVENT
UID:10201@pilgrimchurch.us
DTSTART;TZID=America/New_York:20260517T084500
DTEND;TZID=America/New_York:20260517T093000
DTSTAMP:20250821T142346Z
URL:https://pilgrimchurch.us/calendar/bible-conversations-4-2025-09-14-202
 5-09-21-2025-09-28-2025-10-05-2025-10-12-2025-10-19-2025-10-26-2025-11-02-
 2025-11-09-2025-11-16-2025-11-23-2025-11-30-2025-12-07-2025-12-14-2025-12-
 21-10-2026-05-17/
SUMMARY:Bible Conversations
DESCRIPTION:Bible Conversations-We pray\, read the scripture\, and explore 
 where God is each week.
CATEGORIES:Small Groups
LOCATION:Pilgrim Church Parlor\, 15 Common St\, Southborough\, MA\, 01772\,
  United States
GEO:42.3064043;-71.5315966
X-APPLE-STRUCTURED-LOCATION;VALUE=URI;X-ADDRESS=15 Common St\, Southborough
 \, MA\, 01772\, United States;X-APPLE-RADIUS=100;X-TITLE=Pilgrim Church Pa
 rlor:geo:42.3064043,-71.5315966
END:VEVENT
BEGIN:VTIMEZONE
TZID:America/New_York
X-LIC-LOCATION:America/New_York
BEGIN:DAYLIGHT
DTSTART:20260308T030000
TZOFFSETFROM:-0500
TZOFFSETTO:-0400
TZNAME:EDT
END:DAYLIGHT
END:VTIMEZONE
END:VCALENDAR