BEGIN:VCALENDAR
VERSION:2.0
PRODID:-//wp-events-plugin.com//7.2.3.1//EN
BEGIN:VEVENT
UID:10166@pilgrimchurch.us
DTSTART;TZID=America/New_York:20250914T084500
DTEND;TZID=America/New_York:20250914T093000
DTSTAMP:20250821T142346Z
URL:https://pilgrimchurch.us/calendar/bible-conversations-4-2025-09-14/
SUMMARY:Bible Conversations
DESCRIPTION:Bible Conversations-We pray\, read the scripture\, and explore 
 where God is each week.
CATEGORIES:Small Groups
LOCATION:Pilgrim Church Parlor\, 15 Common St\, Southborough\, MA\, 01772\,
  United States
GEO:42.3064043;-71.5315966
X-APPLE-STRUCTURED-LOCATION;VALUE=URI;X-ADDRESS=15 Common St\, Southborough
 \, MA\, 01772\, United States;X-APPLE-RADIUS=100;X-TITLE=Pilgrim Church Pa
 rlor:geo:42.3064043,-71.5315966
END:VEVENT
BEGIN:VTIMEZONE
TZID:America/New_York
X-LIC-LOCATION:America/New_York
BEGIN:DAYLIGHT
DTSTART:20250309T030000
TZOFFSETFROM:-0500
TZOFFSETTO:-0400
TZNAME:EDT
END:DAYLIGHT
END:VTIMEZONE
END:VCALENDAR