BEGIN:VCALENDAR
VERSION:2.0
PRODID:-//wp-events-plugin.com//7.2.3.1//EN
BEGIN:VEVENT
UID:10322@pilgrimchurch.us
DTSTART;TZID=America/New_York:20260513T190000
DTEND;TZID=America/New_York:20260513T203000
DTSTAMP:20250821T181602Z
URL:https://pilgrimchurch.us/calendar/boy-scout-troop-1-meeting-6-2025-09-
 03-2025-09-10-2025-09-17-2025-09-24-2025-10-01-2025-10-08-2025-10-15-2025-
 10-22-2025-10-29-2025-11-05-2025-11-12-2025-11-19-2025-11-26-2025-12-03-20
 25-06-2026-05-13/
SUMMARY:Boy Scout Troop 1 Meeting
DESCRIPTION:Boy Scout Troop 1 Weekly Meeting (Ryan Henebury)
CATEGORIES:Outside Groups
LOCATION:Pilgrim Church Fellowship Hall\, 15 Common St\, Southborough\, Mas
 sachusetts\, 01772\, Worcester County\, United States
GEO:42.306377;-71.531622
X-APPLE-STRUCTURED-LOCATION;VALUE=URI;X-ADDRESS=15 Common St\, Southborough
 \, Massachusetts\, 01772\, Worcester County\, United States;X-APPLE-RADIUS
 =100;X-TITLE=Pilgrim Church Fellowship Hall:geo:42.306377,-71.531622
END:VEVENT
BEGIN:VTIMEZONE
TZID:America/New_York
X-LIC-LOCATION:America/New_York
BEGIN:DAYLIGHT
DTSTART:20260308T030000
TZOFFSETFROM:-0500
TZOFFSETTO:-0400
TZNAME:EDT
END:DAYLIGHT
END:VTIMEZONE
END:VCALENDAR