BEGIN:VCALENDAR
VERSION:2.0
PRODID:-//wp-events-plugin.com//7.2.3.1//EN
BEGIN:VEVENT
UID:11335@pilgrimchurch.us
DTSTART;TZID=America/New_York:20260627T110000
DTEND;TZID=America/New_York:20260627T120000
DTSTAMP:20260415T162753Z
URL:https://pilgrimchurch.us/calendar/celebration-of-life/
SUMMARY:Celebration of Life
DESCRIPTION:Celebration of Life (Rev. Paul Sanderson)
CATEGORIES:Outside Groups
LOCATION:Pilgrim Church Sanctuary\, 15 Common St\, Southborough\, MA\, 0177
 2\, United States
GEO:42.3064043;-71.5315966
X-APPLE-STRUCTURED-LOCATION;VALUE=URI;X-ADDRESS=15 Common St\, Southborough
 \, MA\, 01772\, United States;X-APPLE-RADIUS=100;X-TITLE=Pilgrim Church Sa
 nctuary:geo:42.3064043,-71.5315966
END:VEVENT
BEGIN:VTIMEZONE
TZID:America/New_York
X-LIC-LOCATION:America/New_York
BEGIN:DAYLIGHT
DTSTART:20260308T030000
TZOFFSETFROM:-0500
TZOFFSETTO:-0400
TZNAME:EDT
END:DAYLIGHT
END:VTIMEZONE
END:VCALENDAR