BEGIN:VCALENDAR
VERSION:2.0
PRODID:-//wp-events-plugin.com//7.2.3.1//EN
BEGIN:VEVENT
UID:10242@pilgrimchurch.us
DTSTART;TZID=America/New_York:20260510T090000
DTEND;TZID=America/New_York:20260510T093000
DTSTAMP:20250821T145933Z
URL:https://pilgrimchurch.us/calendar/chancel-choir-rehearsal-9-2025-09-14
 -2025-09-21-2025-09-28-2025-10-05-2025-10-12-2025-10-19-2025-10-26-2025-11
 -02-2025-11-09-2025-11-16-2025-11-23-2025-11-30-2025-12-07-2025-12-14-2025
 -1-03-2026-05-10/
SUMMARY:Chancel Choir Rehearsal
DESCRIPTION:Chancel Choir Rehearsal-Leads and supports the congregation in 
 the singing of hymns and musical responses and provides choral anthems and
 /or solos within the Sunday morning service. The choir rehearses every Sun
 day morning before worship at 9:00 AM from mid-September thru early June u
 nder the direction of the Director of Music. New members are always welcom
 ed.
CATEGORIES:Small Groups
LOCATION:Pilgrim Church Music Room\, 15 Common St\, Southborough\, MA\, 017
 72\, United States
GEO:42.306404;-71.531597
X-APPLE-STRUCTURED-LOCATION;VALUE=URI;X-ADDRESS=15 Common St\, Southborough
 \, MA\, 01772\, United States;X-APPLE-RADIUS=100;X-TITLE=Pilgrim Church Mu
 sic Room:geo:42.306404,-71.531597
END:VEVENT
BEGIN:VTIMEZONE
TZID:America/New_York
X-LIC-LOCATION:America/New_York
BEGIN:DAYLIGHT
DTSTART:20260308T030000
TZOFFSETFROM:-0500
TZOFFSETTO:-0400
TZNAME:EDT
END:DAYLIGHT
END:VTIMEZONE
END:VCALENDAR