BEGIN:VCALENDAR
VERSION:2.0
PRODID:-//wp-events-plugin.com//7.2.3.1//EN
BEGIN:VEVENT
UID:10042@pilgrimchurch.us
DTSTART;TZID=America/New_York;VALUE=DATE:20260614
DTEND;TZID=America/New_York;VALUE=DATE:20260615
DTSTAMP:20250610T182626Z
URL:https://pilgrimchurch.us/calendar/childrens-sunday-7/
SUMMARY:Children's Sunday
DESCRIPTION:Children's Sunday
CATEGORIES:General Pilgrim Church
END:VEVENT
BEGIN:VTIMEZONE
TZID:America/New_York
X-LIC-LOCATION:America/New_York
BEGIN:DAYLIGHT
DTSTART:20260308T030000
TZOFFSETFROM:-0500
TZOFFSETTO:-0400
TZNAME:EDT
END:DAYLIGHT
END:VTIMEZONE
END:VCALENDAR