BEGIN:VCALENDAR
VERSION:2.0
PRODID:-//wp-events-plugin.com//7.2.3.1//EN
BEGIN:VEVENT
UID:9969@pilgrimchurch.us
DTSTART;TZID=America/New_York;VALUE=DATE:20251225
DTEND;TZID=America/New_York;VALUE=DATE:20251226
DTSTAMP:20250520T204334Z
URL:https://pilgrimchurch.us/calendar/christmas-day-3/
SUMMARY:Christmas Day
DESCRIPTION:Christmas Day
CATEGORIES:General Pilgrim Church
END:VEVENT
BEGIN:VTIMEZONE
TZID:America/New_York
X-LIC-LOCATION:America/New_York
BEGIN:STANDARD
DTSTART:20251102T010000
TZOFFSETFROM:-0400
TZOFFSETTO:-0500
TZNAME:EST
END:STANDARD
END:VTIMEZONE
END:VCALENDAR