BEGIN:VCALENDAR
VERSION:2.0
PRODID:-//wp-events-plugin.com//7.2.3.1//EN
BEGIN:VEVENT
UID:9967@pilgrimchurch.us
DTSTART;TZID=America/New_York;VALUE=DATE:20251013
DTEND;TZID=America/New_York;VALUE=DATE:20251014
DTSTAMP:20250520T204048Z
URL:https://pilgrimchurch.us/calendar/columbus-day-indigenous-people-day/
SUMMARY:Columbus Day/Indigenous People Day
DESCRIPTION:Columbus Day/Indigenous People Day
CATEGORIES:General Pilgrim Church
END:VEVENT
BEGIN:VTIMEZONE
TZID:America/New_York
X-LIC-LOCATION:America/New_York
BEGIN:DAYLIGHT
DTSTART:20250309T030000
TZOFFSETFROM:-0500
TZOFFSETTO:-0400
TZNAME:EDT
END:DAYLIGHT
END:VTIMEZONE
END:VCALENDAR