BEGIN:VCALENDAR
VERSION:2.0
PRODID:-//wp-events-plugin.com//7.2.3.1//EN
BEGIN:VEVENT
UID:10064@pilgrimchurch.us
DTSTART;TZID=America/New_York:20261121T193000
DTEND;TZID=America/New_York:20261121T213000
DTSTAMP:20250715T130128Z
URL:https://pilgrimchurch.us/calendar/common-street-concert-3-2026-09-19-2
 026-10-17-2026-11-21/
SUMMARY:Common Street Concert
DESCRIPTION:Common Street Concert
CATEGORIES:General Pilgrim Church
LOCATION:Pilgrim Congregational Church-Hall & Kitchen\, 15 Common Street\, 
 P.O. Box 281\, Southborough\, MA\, 01772\, United States
GEO:29.709886;-98.119742
X-APPLE-STRUCTURED-LOCATION;VALUE=URI;X-ADDRESS=15 Common Street\, P.O. Box
  281\, Southborough\, MA\, 01772\, United States;X-APPLE-RADIUS=100;X-TITL
 E=Pilgrim Congregational Church-Hall & Kitchen:geo:29.709886,-98.119742
END:VEVENT
BEGIN:VTIMEZONE
TZID:America/New_York
X-LIC-LOCATION:America/New_York
BEGIN:STANDARD
DTSTART:20261101T010000
TZOFFSETFROM:-0400
TZOFFSETTO:-0500
TZNAME:EST
END:STANDARD
END:VTIMEZONE
END:VCALENDAR