BEGIN:VCALENDAR
VERSION:2.0
PRODID:-//wp-events-plugin.com//7.2.3.1//EN
BEGIN:VEVENT
UID:10062@pilgrimchurch.us
DTSTART;TZID=America/New_York:20260919T193000
DTEND;TZID=America/New_York:20260919T213000
DTSTAMP:20250715T130128Z
URL:https://pilgrimchurch.us/calendar/common-street-concert-3-2026-09-19/
SUMMARY:Common Street Concert
DESCRIPTION:Common Street Concert
CATEGORIES:General Pilgrim Church
LOCATION:Pilgrim Congregational Church-Hall & Kitchen\, 15 Common Street\, 
 P.O. Box 281\, Southborough\, MA\, 01772\, United States
GEO:29.709886;-98.119742
X-APPLE-STRUCTURED-LOCATION;VALUE=URI;X-ADDRESS=15 Common Street\, P.O. Box
  281\, Southborough\, MA\, 01772\, United States;X-APPLE-RADIUS=100;X-TITL
 E=Pilgrim Congregational Church-Hall & Kitchen:geo:29.709886,-98.119742
END:VEVENT
BEGIN:VTIMEZONE
TZID:America/New_York
X-LIC-LOCATION:America/New_York
BEGIN:DAYLIGHT
DTSTART:20260308T030000
TZOFFSETFROM:-0500
TZOFFSETTO:-0400
TZNAME:EDT
END:DAYLIGHT
END:VTIMEZONE
END:VCALENDAR