BEGIN:VCALENDAR
VERSION:2.0
PRODID:-//wp-events-plugin.com//7.2.3.1//EN
BEGIN:VEVENT
UID:10464@pilgrimchurch.us
DTSTART;TZID=America/New_York:20251110T193000
DTEND;TZID=America/New_York:20251110T210000
DTSTAMP:20251219T025302Z
URL:https://pilgrimchurch.us/calendar/council-meeting-8-2025-08-11-2025-09
 -08-2025-10-13-2025-11-10/
SUMMARY:Council Meeting
DESCRIPTION:Council Meeting
CATEGORIES:General Pilgrim Church
LOCATION:Pilgrim Church Music Room\, 15 Common St\, Southborough\, MA\, 017
 72\, United States
GEO:42.306404;-71.531597
X-APPLE-STRUCTURED-LOCATION;VALUE=URI;X-ADDRESS=15 Common St\, Southborough
 \, MA\, 01772\, United States;X-APPLE-RADIUS=100;X-TITLE=Pilgrim Church Mu
 sic Room:geo:42.306404,-71.531597
END:VEVENT
BEGIN:VTIMEZONE
TZID:America/New_York
X-LIC-LOCATION:America/New_York
BEGIN:STANDARD
DTSTART:20251102T010000
TZOFFSETFROM:-0400
TZOFFSETTO:-0500
TZNAME:EST
END:STANDARD
END:VTIMEZONE
END:VCALENDAR