BEGIN:VCALENDAR
VERSION:2.0
PRODID:-//wp-events-plugin.com//7.2.3.1//EN
BEGIN:VEVENT
UID:9963@pilgrimchurch.us
DTSTART;TZID=America/New_York:20260511T193000
DTEND;TZID=America/New_York:20260511T210000
DTSTAMP:20251219T025302Z
URL:https://pilgrimchurch.us/calendar/council-meeting-8-2026-05-11/
SUMMARY:Council Meeting
DESCRIPTION:Council Meeting
CATEGORIES:General Pilgrim Church
LOCATION:Pilgrim Church Music Room\, 15 Common St\, Southborough\, MA\, 017
 72\, United States
GEO:42.306404;-71.531597
X-APPLE-STRUCTURED-LOCATION;VALUE=URI;X-ADDRESS=15 Common St\, Southborough
 \, MA\, 01772\, United States;X-APPLE-RADIUS=100;X-TITLE=Pilgrim Church Mu
 sic Room:geo:42.306404,-71.531597
END:VEVENT
BEGIN:VTIMEZONE
TZID:America/New_York
X-LIC-LOCATION:America/New_York
BEGIN:DAYLIGHT
DTSTART:20260308T030000
TZOFFSETFROM:-0500
TZOFFSETTO:-0400
TZNAME:EDT
END:DAYLIGHT
END:VTIMEZONE
END:VCALENDAR