BEGIN:VCALENDAR
VERSION:2.0
PRODID:-//wp-events-plugin.com//7.2.3.1//EN
BEGIN:VEVENT
UID:10350@pilgrimchurch.us
DTSTART;TZID=America/New_York:20260117T090000
DTEND;TZID=America/New_York:20260117T160000
DTSTAMP:20251016T184220Z
URL:https://pilgrimchurch.us/calendar/cub-scout-pack-1-pinewood-derby-prac
 tice-day/
SUMMARY:Cub Scout Pack #1 Pinewood Derby Practice Day
DESCRIPTION:Cub Scout Pack #1 Pinewood Derby Practice Day (Tim Moller)
CATEGORIES:Outside Groups
LOCATION:Pilgrim Church Fellowship Hall\, 15 Common St\, Southborough\, Mas
 sachusetts\, 01772\, Worcester County\, United States
GEO:42.306377;-71.531622
X-APPLE-STRUCTURED-LOCATION;VALUE=URI;X-ADDRESS=15 Common St\, Southborough
 \, Massachusetts\, 01772\, Worcester County\, United States;X-APPLE-RADIUS
 =100;X-TITLE=Pilgrim Church Fellowship Hall:geo:42.306377,-71.531622
END:VEVENT
BEGIN:VTIMEZONE
TZID:America/New_York
X-LIC-LOCATION:America/New_York
BEGIN:STANDARD
DTSTART:20251102T010000
TZOFFSETFROM:-0400
TZOFFSETTO:-0500
TZNAME:EST
END:STANDARD
END:VTIMEZONE
END:VCALENDAR