BEGIN:VCALENDAR
VERSION:2.0
PRODID:-//wp-events-plugin.com//7.2.3.1//EN
BEGIN:VEVENT
UID:10419@pilgrimchurch.us
DTSTART;TZID=America/New_York:20251110T180000
DTEND;TZID=America/New_York:20251110T190000
DTSTAMP:20251013T154331Z
URL:https://pilgrimchurch.us/calendar/cub-scouts-lions-den-meeting-2025-11
 -10/
SUMMARY:Cub Scouts Lions Den Meeting
DESCRIPTION:Cub Scouts Lions Den Meeting (Jon Logins)
CATEGORIES:Outside Groups
LOCATION:Pilgrim Church-Matthew Classroom\, 15 Common Street\, Southborough
 \, MA\, 01772\, United States
GEO:42.306404;-71.531597
X-APPLE-STRUCTURED-LOCATION;VALUE=URI;X-ADDRESS=15 Common Street\, Southbor
 ough\, MA\, 01772\, United States;X-APPLE-RADIUS=100;X-TITLE=Pilgrim Churc
 h-Matthew Classroom:geo:42.306404,-71.531597
END:VEVENT
BEGIN:VTIMEZONE
TZID:America/New_York
X-LIC-LOCATION:America/New_York
BEGIN:STANDARD
DTSTART:20251102T010000
TZOFFSETFROM:-0400
TZOFFSETTO:-0500
TZNAME:EST
END:STANDARD
END:VTIMEZONE
END:VCALENDAR