BEGIN:VCALENDAR
VERSION:2.0
PRODID:-//wp-events-plugin.com//7.2.3.1//EN
BEGIN:VEVENT
UID:10048@pilgrimchurch.us
DTSTART;TZID=America/New_York:20250623T173000
DTEND;TZID=America/New_York:20250623T213000
DTSTAMP:20250623T183052Z
URL:https://pilgrimchurch.us/calendar/curtain-up-theater/
SUMMARY:Curtain Up Theater
DESCRIPTION:Curtain Up Theater
CATEGORIES:Outside Groups
LOCATION:Pilgrim Church Hall & Parlor\, 15 Common Street\, Southborough\, M
 A\, 01772\, United States
X-APPLE-STRUCTURED-LOCATION;VALUE=URI;X-ADDRESS=15 Common Street\, Southbor
 ough\, MA\, 01772\, United States;X-APPLE-RADIUS=100;X-TITLE=Pilgrim Churc
 h Hall & Parlor:geo:0,0
END:VEVENT
BEGIN:VTIMEZONE
TZID:America/New_York
X-LIC-LOCATION:America/New_York
BEGIN:DAYLIGHT
DTSTART:20250309T030000
TZOFFSETFROM:-0500
TZOFFSETTO:-0400
TZNAME:EDT
END:DAYLIGHT
END:VTIMEZONE
END:VCALENDAR