BEGIN:VCALENDAR
VERSION:2.0
PRODID:-//wp-events-plugin.com//7.2.3.1//EN
BEGIN:VEVENT
UID:11286@pilgrimchurch.us
DTSTART;TZID=America/New_York:20260222T160000
DTEND;TZID=America/New_York:20260222T180000
DTSTAMP:20260218T183114Z
URL:https://pilgrimchurch.us/calendar/den-meeting/
SUMMARY:Den Meeting
DESCRIPTION:Den Meeting (Tim Moller)
CATEGORIES:Outside Groups
LOCATION:Pilgrim Church Hall & Kitchen\, 15 Common Street\, Southborough\, 
 MA\, 01772\, United States
X-APPLE-STRUCTURED-LOCATION;VALUE=URI;X-ADDRESS=15 Common Street\, Southbor
 ough\, MA\, 01772\, United States;X-APPLE-RADIUS=100;X-TITLE=Pilgrim Churc
 h Hall & Kitchen:geo:0,0
END:VEVENT
BEGIN:VTIMEZONE
TZID:America/New_York
X-LIC-LOCATION:America/New_York
BEGIN:STANDARD
DTSTART:20251102T010000
TZOFFSETFROM:-0400
TZOFFSETTO:-0500
TZNAME:EST
END:STANDARD
END:VTIMEZONE
END:VCALENDAR