BEGIN:VCALENDAR
VERSION:2.0
PRODID:-//wp-events-plugin.com//7.2.3.1//EN
BEGIN:VEVENT
UID:11327@pilgrimchurch.us
DTSTART;TZID=America/New_York:20260405T063000
DTEND;TZID=America/New_York:20260405T073000
DTSTAMP:20260304T165031Z
URL:https://pilgrimchurch.us/calendar/easter-sunrise-service-3/
SUMMARY:Easter Sunrise Service
DESCRIPTION:Easter Sunrise Service
CATEGORIES:General Pilgrim Church
LOCATION:Hopkinton State Park\, 164 Cedar Street\, Hopkinton\, Massachusett
 s\, 01748\, Middlesex County\, United States
GEO:42.247344;-71.528374
X-APPLE-STRUCTURED-LOCATION;VALUE=URI;X-ADDRESS=164 Cedar Street\, Hopkinto
 n\, Massachusetts\, 01748\, Middlesex County\, United States;X-APPLE-RADIU
 S=100;X-TITLE=Hopkinton State Park:geo:42.247344,-71.528374
END:VEVENT
BEGIN:VTIMEZONE
TZID:America/New_York
X-LIC-LOCATION:America/New_York
BEGIN:DAYLIGHT
DTSTART:20260308T030000
TZOFFSETFROM:-0500
TZOFFSETTO:-0400
TZNAME:EDT
END:DAYLIGHT
END:VTIMEZONE
END:VCALENDAR