BEGIN:VCALENDAR
VERSION:2.0
PRODID:-//wp-events-plugin.com//7.2.3.1//EN
BEGIN:VEVENT
UID:10156@pilgrimchurch.us
DTSTART;TZID=America/New_York:20260201T180000
DTEND;TZID=America/New_York:20260201T200000
DTSTAMP:20250818T150409Z
URL:https://pilgrimchurch.us/calendar/family-game-night-6-2025-09-07-2025-
 10-05-2025-11-02-2025-12-07-2026-01-04-2026-02-01/
SUMMARY:Family Game Night
DESCRIPTION:Monthly Family Game Night-Join us for fun\, fellowship and a li
 ttle competition for a family game night.  Feel free to bring your supper
 .  We eat from 6:00-6:30 p.m and then bring out the games.
CATEGORIES:General Pilgrim Church
LOCATION:Pilgrim Church Fellowship Hall\, 15 Common St\, Southborough\, Mas
 sachusetts\, 01772\, Worcester County\, United States
GEO:42.306377;-71.531622
X-APPLE-STRUCTURED-LOCATION;VALUE=URI;X-ADDRESS=15 Common St\, Southborough
 \, Massachusetts\, 01772\, Worcester County\, United States;X-APPLE-RADIUS
 =100;X-TITLE=Pilgrim Church Fellowship Hall:geo:42.306377,-71.531622
END:VEVENT
BEGIN:VTIMEZONE
TZID:America/New_York
X-LIC-LOCATION:America/New_York
BEGIN:STANDARD
DTSTART:20251102T010000
TZOFFSETFROM:-0400
TZOFFSETTO:-0500
TZNAME:EST
END:STANDARD
END:VTIMEZONE
END:VCALENDAR