BEGIN:VCALENDAR
VERSION:2.0
PRODID:-//wp-events-plugin.com//7.2.3.1//EN
BEGIN:VEVENT
UID:10043@pilgrimchurch.us
DTSTART;TZID=America/New_York:20251220T081500
DTEND;TZID=America/New_York:20251220T093000
DTSTAMP:20250610T182826Z
URL:https://pilgrimchurch.us/calendar/family-holiday-breakfast/
SUMMARY:Family Holiday Breakfast
DESCRIPTION:Family Holiday Breakfast
CATEGORIES:General Pilgrim Church
LOCATION:Pilgrim Congregational Church-Hall & Kitchen\, 15 Common Street\, 
 P.O. Box 281\, Southborough\, MA\, 01772\, United States
GEO:29.709886;-98.119742
X-APPLE-STRUCTURED-LOCATION;VALUE=URI;X-ADDRESS=15 Common Street\, P.O. Box
  281\, Southborough\, MA\, 01772\, United States;X-APPLE-RADIUS=100;X-TITL
 E=Pilgrim Congregational Church-Hall & Kitchen:geo:29.709886,-98.119742
END:VEVENT
BEGIN:VTIMEZONE
TZID:America/New_York
X-LIC-LOCATION:America/New_York
BEGIN:STANDARD
DTSTART:20251102T010000
TZOFFSETFROM:-0400
TZOFFSETTO:-0500
TZNAME:EST
END:STANDARD
END:VTIMEZONE
END:VCALENDAR