BEGIN:VCALENDAR
VERSION:2.0
PRODID:-//wp-events-plugin.com//7.2.3.1//EN
BEGIN:VEVENT
UID:10085@pilgrimchurch.us
DTSTART;TZID=America/New_York:20260408T193000
DTEND;TZID=America/New_York:20260408T210000
DTSTAMP:20260323T162956Z
URL:https://pilgrimchurch.us/calendar/financial-resources-committee-meetin
 g-9-2025-09-03-2025-10-01-2025-11-05-2025-12-03-2026-01-07-2026-02-04-2026
 -03-04-2026-04-01/
SUMMARY:Financial Resources Committee Meeting
DESCRIPTION:Financial Resources Committee Meeting (Michael Hennessy)
CATEGORIES:Committee Meetiings
LOCATION:Pilgrim Church Office\, 15 Common St\, Southborough\, MA\, 01772\,
  United States
GEO:42.306404;-71.531597
X-APPLE-STRUCTURED-LOCATION;VALUE=URI;X-ADDRESS=15 Common St\, Southborough
 \, MA\, 01772\, United States;X-APPLE-RADIUS=100;X-TITLE=Pilgrim Church Of
 fice:geo:42.306404,-71.531597
END:VEVENT
BEGIN:VTIMEZONE
TZID:America/New_York
X-LIC-LOCATION:America/New_York
BEGIN:DAYLIGHT
DTSTART:20260308T030000
TZOFFSETFROM:-0500
TZOFFSETTO:-0400
TZNAME:EDT
END:DAYLIGHT
END:VTIMEZONE
END:VCALENDAR