BEGIN:VCALENDAR
VERSION:2.0
PRODID:-//wp-events-plugin.com//7.2.3.1//EN
BEGIN:VEVENT
UID:10084@pilgrimchurch.us
DTSTART;TZID=America/New_York:20260304T193000
DTEND;TZID=America/New_York:20260304T210000
DTSTAMP:20250811T154410Z
URL:https://pilgrimchurch.us/calendar/financial-resources-committee-meetin
 g-9-2025-09-03-2025-10-01-2025-11-05-2025-12-03-2026-01-07-2026-02-04-2026
 -03-04/
SUMMARY:Financial Resources Committee Meeting
DESCRIPTION:Financial Resources Committee Meeting (Michael Hennessy)
CATEGORIES:Committee Meetiings
LOCATION:Pilgrim Church Office\, 15 Common St\, Southborough\, MA\, 01772\,
  United States
GEO:42.306404;-71.531597
X-APPLE-STRUCTURED-LOCATION;VALUE=URI;X-ADDRESS=15 Common St\, Southborough
 \, MA\, 01772\, United States;X-APPLE-RADIUS=100;X-TITLE=Pilgrim Church Of
 fice:geo:42.306404,-71.531597
END:VEVENT
BEGIN:VTIMEZONE
TZID:America/New_York
X-LIC-LOCATION:America/New_York
BEGIN:STANDARD
DTSTART:20251102T010000
TZOFFSETFROM:-0400
TZOFFSETTO:-0500
TZNAME:EST
END:STANDARD
END:VTIMEZONE
END:VCALENDAR