BEGIN:VCALENDAR
VERSION:2.0
PRODID:-//wp-events-plugin.com//7.2.3.1//EN
BEGIN:VEVENT
UID:11249@pilgrimchurch.us
DTSTART;TZID=America/New_York:20270730T073000
DTEND;TZID=America/New_York:20270730T120000
DTSTAMP:20260114T143441Z
URL:https://pilgrimchurch.us/calendar/food-pantry-5-2026-01-16-2026-01-23-
 2026-01-30-2026-02-06-2026-02-13-2026-02-20-2026-02-27-2026-03-06-2026-03-
 13-2026-03-20-2026-03-27-2026-04-03-2026-04-10-2026-04-17-2026-04-24-2026-
 05-23-2027-07-30/
SUMMARY:Food Pantry
DESCRIPTION:United Parishes of Southborough open their doors at Pilgrim Chu
 rch Thursday nights from 6:00 to 7:00 PM and Friday mornings from 9:00 to 
 10:00 AM. Any resident of Southborough can access the food pantry by calli
 ng 508-485-4847.  For more information\, visit the Southborough Food Pan
 try Facebook page.
CATEGORIES:Outreach
LOCATION:Pilgrim Church Fellowship Hall\, 15 Common St\, Southborough\, Mas
 sachusetts\, 01772\, Worcester County\, United States
GEO:42.306377;-71.531622
X-APPLE-STRUCTURED-LOCATION;VALUE=URI;X-ADDRESS=15 Common St\, Southborough
 \, Massachusetts\, 01772\, Worcester County\, United States;X-APPLE-RADIUS
 =100;X-TITLE=Pilgrim Church Fellowship Hall:geo:42.306377,-71.531622
END:VEVENT
BEGIN:VTIMEZONE
TZID:America/New_York
X-LIC-LOCATION:America/New_York
BEGIN:DAYLIGHT
DTSTART:20270314T030000
TZOFFSETFROM:-0500
TZOFFSETTO:-0400
TZNAME:EDT
END:DAYLIGHT
END:VTIMEZONE
END:VCALENDAR