BEGIN:VCALENDAR
VERSION:2.0
PRODID:-//wp-events-plugin.com//7.2.3.1//EN
BEGIN:VEVENT
UID:7635@pilgrimchurch.us
DTSTART;TZID=America/New_York:20240503T090000
DTEND;TZID=America/New_York:20250627T100000
DTSTAMP:20250520T202344Z
URL:https://pilgrimchurch.us/event-recurring/food-pantry-8/
SUMMARY:Food Pantry
DESCRIPTION:United Parishes of Southborough open their doors at Pilgrim Chu
 rch Thursday nights from 6:00 to 7:00 PM and Friday mornings from 9:00 to 
 10:00 AM. Any resident of Southborough can access the food pantry by calli
 ng 508-485-4847.  For more information\, visit the Southborough Food Pant
 ry Facebook page.
CATEGORIES:Outreach
LOCATION:Pilgrim Church Fellowship Hall\, 15 Common St\, Southborough\, Mas
 sachusetts\, 01772\, Worcester County\, United States
GEO:42.306377;-71.531622
X-APPLE-STRUCTURED-LOCATION;VALUE=URI;X-ADDRESS=15 Common St\, Southborough
 \, Massachusetts\, 01772\, Worcester County\, United States;X-APPLE-RADIUS
 =100;X-TITLE=Pilgrim Church Fellowship Hall:geo:42.306377,-71.531622
END:VEVENT
BEGIN:VTIMEZONE
TZID:America/New_York
X-LIC-LOCATION:America/New_York
BEGIN:DAYLIGHT
DTSTART:20240310T030000
TZOFFSETFROM:-0500
TZOFFSETTO:-0400
TZNAME:EDT
END:DAYLIGHT
BEGIN:STANDARD
DTSTART:20241103T010000
TZOFFSETFROM:-0400
TZOFFSETTO:-0500
TZNAME:EST
END:STANDARD
BEGIN:DAYLIGHT
DTSTART:20250309T030000
TZOFFSETFROM:-0500
TZOFFSETTO:-0400
TZNAME:EDT
END:DAYLIGHT
END:VTIMEZONE
END:VCALENDAR