BEGIN:VCALENDAR
VERSION:2.0
PRODID:-//wp-events-plugin.com//7.2.3.1//EN
BEGIN:VEVENT
UID:10619@pilgrimchurch.us
DTSTART;TZID=America/New_York:20270408T090000
DTEND;TZID=America/New_York:20270408T150000
DTSTAMP:20260113T164017Z
URL:https://pilgrimchurch.us/calendar/food-pantry-volunteer-set-up-2-2026-
 01-15-2026-01-22-2026-01-29-2026-02-05-2026-02-12-2026-02-19-2026-02-26-20
 26-03-05-2026-03-12-2026-03-19-2026-03-26-2026-04-02-2026-04-09-2026-04-16
 -2-01-2027-04-08/
SUMMARY:Food Pantry Volunteer Set Up
DESCRIPTION:Food Pantry Volunteer Set Up
CATEGORIES:Outreach
LOCATION:Pilgrim Church Fellowship Hall\, 15 Common St\, Southborough\, Mas
 sachusetts\, 01772\, Worcester County\, United States
GEO:42.306377;-71.531622
X-APPLE-STRUCTURED-LOCATION;VALUE=URI;X-ADDRESS=15 Common St\, Southborough
 \, Massachusetts\, 01772\, Worcester County\, United States;X-APPLE-RADIUS
 =100;X-TITLE=Pilgrim Church Fellowship Hall:geo:42.306377,-71.531622
END:VEVENT
BEGIN:VTIMEZONE
TZID:America/New_York
X-LIC-LOCATION:America/New_York
BEGIN:DAYLIGHT
DTSTART:20270314T030000
TZOFFSETFROM:-0500
TZOFFSETTO:-0400
TZNAME:EDT
END:DAYLIGHT
END:VTIMEZONE
END:VCALENDAR