BEGIN:VCALENDAR
VERSION:2.0
PRODID:-//wp-events-plugin.com//7.2.3.1//EN
BEGIN:VEVENT
UID:10513@pilgrimchurch.us
DTSTART;TZID=America/New_York:20260923T090000
DTEND;TZID=America/New_York:20260923T150000
DTSTAMP:20260113T163755Z
URL:https://pilgrimchurch.us/calendar/food-pantry-volunteer-set-up-2026-01
 -14-2026-01-21-2026-01-28-2026-02-04-2026-02-11-2026-02-18-2026-02-25-2026
 -03-04-2026-03-11-2026-03-18-2026-03-25-2026-04-01-2026-04-08-2026-04-15-2
 02-16-2026-09-23/
SUMMARY:Food Pantry Volunteer Set Up
DESCRIPTION:Food Pantry Volunteer Set Up
CATEGORIES:Outreach
LOCATION:Pilgrim Church Fellowship Hall\, 15 Common St\, Southborough\, Mas
 sachusetts\, 01772\, Worcester County\, United States
GEO:42.306377;-71.531622
X-APPLE-STRUCTURED-LOCATION;VALUE=URI;X-ADDRESS=15 Common St\, Southborough
 \, Massachusetts\, 01772\, Worcester County\, United States;X-APPLE-RADIUS
 =100;X-TITLE=Pilgrim Church Fellowship Hall:geo:42.306377,-71.531622
END:VEVENT
BEGIN:VTIMEZONE
TZID:America/New_York
X-LIC-LOCATION:America/New_York
BEGIN:DAYLIGHT
DTSTART:20260308T030000
TZOFFSETFROM:-0500
TZOFFSETTO:-0400
TZNAME:EDT
END:DAYLIGHT
END:VTIMEZONE
END:VCALENDAR