BEGIN:VCALENDAR
VERSION:2.0
PRODID:-//wp-events-plugin.com//7.2.3.1//EN
BEGIN:VEVENT
UID:10406@pilgrimchurch.us
DTSTART;TZID=America/New_York:20250921T160000
DTEND;TZID=America/New_York:20250921T180000
DTSTAMP:20250915T133613Z
URL:https://pilgrimchurch.us/calendar/girl-scout-meeting-3/
SUMMARY:Girl Scout Meeting
DESCRIPTION:Girl Scout Meeting (Joan Provencal)
CATEGORIES:Outside Groups
LOCATION:Pilgrim Congregational Church-Matthew Classroom\, 15 Common Street
 \, Southborough\, MA\, 01772\, United States
GEO:42.306404;-71.531597
X-APPLE-STRUCTURED-LOCATION;VALUE=URI;X-ADDRESS=15 Common Street\, Southbor
 ough\, MA\, 01772\, United States;X-APPLE-RADIUS=100;X-TITLE=Pilgrim Congr
 egational Church-Matthew Classroom:geo:42.306404,-71.531597
END:VEVENT
BEGIN:VTIMEZONE
TZID:America/New_York
X-LIC-LOCATION:America/New_York
BEGIN:DAYLIGHT
DTSTART:20250309T030000
TZOFFSETFROM:-0500
TZOFFSETTO:-0400
TZNAME:EDT
END:DAYLIGHT
END:VTIMEZONE
END:VCALENDAR