BEGIN:VCALENDAR
VERSION:2.0
PRODID:-//wp-events-plugin.com//7.2.3.1//EN
BEGIN:VEVENT
UID:10349@pilgrimchurch.us
DTSTART;TZID=America/New_York:20250825T180000
DTEND;TZID=America/New_York:20250825T200000
DTSTAMP:20250825T134240Z
URL:https://pilgrimchurch.us/calendar/girl-scout-troop-82377/
SUMMARY:Girl Scout Troop #82377
DESCRIPTION:Girl Scout Troop #82377 (Joan Provencal)
CATEGORIES:Outside Groups
LOCATION:Pilgrim Church-Matthew Classroom\, 15 Common Street\, Southborough
 \, MA\, 01772\, United States
GEO:42.306404;-71.531597
X-APPLE-STRUCTURED-LOCATION;VALUE=URI;X-ADDRESS=15 Common Street\, Southbor
 ough\, MA\, 01772\, United States;X-APPLE-RADIUS=100;X-TITLE=Pilgrim Churc
 h-Matthew Classroom:geo:42.306404,-71.531597
END:VEVENT
BEGIN:VTIMEZONE
TZID:America/New_York
X-LIC-LOCATION:America/New_York
BEGIN:DAYLIGHT
DTSTART:20250309T030000
TZOFFSETFROM:-0500
TZOFFSETTO:-0400
TZNAME:EDT
END:DAYLIGHT
END:VTIMEZONE
END:VCALENDAR