BEGIN:VCALENDAR
VERSION:2.0
PRODID:-//wp-events-plugin.com//7.2.3.1//EN
BEGIN:VEVENT
UID:10149@pilgrimchurch.us
DTSTART;TZID=America/New_York:20260615T100000
DTEND;TZID=America/New_York:20260615T110000
DTSTAMP:20250811T162127Z
URL:https://pilgrimchurch.us/calendar/healthy-living-group-10-2026-06-15/
SUMMARY:Healthy Living Group
DESCRIPTION:Healthy Living Group-A group of individuals\, men and women\,
  gather to talk about different ways to be healthier.  (Charley Eastman
 )
CATEGORIES:Small Groups
LOCATION:Pilgrim Church Parlor\, 15 Common St\, Southborough\, MA\, 01772\,
  United States
GEO:42.3064043;-71.5315966
X-APPLE-STRUCTURED-LOCATION;VALUE=URI;X-ADDRESS=15 Common St\, Southborough
 \, MA\, 01772\, United States;X-APPLE-RADIUS=100;X-TITLE=Pilgrim Church Pa
 rlor:geo:42.3064043,-71.5315966
END:VEVENT
BEGIN:VTIMEZONE
TZID:America/New_York
X-LIC-LOCATION:America/New_York
BEGIN:DAYLIGHT
DTSTART:20260308T030000
TZOFFSETFROM:-0500
TZOFFSETTO:-0400
TZNAME:EDT
END:DAYLIGHT
END:VTIMEZONE
END:VCALENDAR