BEGIN:VCALENDAR
VERSION:2.0
PRODID:-//wp-events-plugin.com//7.2.3.1//EN
BEGIN:VEVENT
UID:10416@pilgrimchurch.us
DTSTART;TZID=America/New_York:20251013T100000
DTEND;TZID=America/New_York:20251013T140000
DTSTAMP:20250929T154405Z
URL:https://pilgrimchurch.us/calendar/heritage-day-holy-spuds/
SUMMARY:Heritage Day "Holy Spuds"
DESCRIPTION:Heritage Day "Holy Spuds"
CATEGORIES:General Pilgrim Church
END:VEVENT
BEGIN:VTIMEZONE
TZID:America/New_York
X-LIC-LOCATION:America/New_York
BEGIN:DAYLIGHT
DTSTART:20250309T030000
TZOFFSETFROM:-0500
TZOFFSETTO:-0400
TZNAME:EDT
END:DAYLIGHT
END:VTIMEZONE
END:VCALENDAR