BEGIN:VCALENDAR
VERSION:2.0
PRODID:-//wp-events-plugin.com//7.2.3.1//EN
BEGIN:VEVENT
UID:11304@pilgrimchurch.us
DTSTART;TZID=America/New_York:20260616T160000
DTEND;TZID=America/New_York:20260616T180000
DTSTAMP:20260303T134559Z
URL:https://pilgrimchurch.us/calendar/koinonia-group-5-2026-03-10-2026-03-
 17-2026-03-24-2026-03-31-2026-04-07-2026-04-14-2026-04-21-2026-04-28-2026-
 05-05-2026-05-12-2026-05-19-2026-05-26-2026-06-02-2026-06-09-2026-06-16/
SUMMARY:Koinonia Group
DESCRIPTION:Meeting weekly as a nurturing and faithful community\, sharing 
 our inner spiritual journey and exploring ways to more fully experience a 
 deeper awareness of God’s presence in our lives. Because sharing groups 
 can only function well with a limit number of members\, it has been necess
 ary to limit the group to the current membership.
CATEGORIES:Small Groups
LOCATION:Pilgrim Church Parlor\, 15 Common St\, Southborough\, MA\, 01772\,
  United States
GEO:42.3064043;-71.5315966
X-APPLE-STRUCTURED-LOCATION;VALUE=URI;X-ADDRESS=15 Common St\, Southborough
 \, MA\, 01772\, United States;X-APPLE-RADIUS=100;X-TITLE=Pilgrim Church Pa
 rlor:geo:42.3064043,-71.5315966
END:VEVENT
BEGIN:VTIMEZONE
TZID:America/New_York
X-LIC-LOCATION:America/New_York
BEGIN:DAYLIGHT
DTSTART:20260308T030000
TZOFFSETFROM:-0500
TZOFFSETTO:-0400
TZNAME:EDT
END:DAYLIGHT
END:VTIMEZONE
END:VCALENDAR