BEGIN:VCALENDAR
VERSION:2.0
PRODID:-//wp-events-plugin.com//7.2.3.1//EN
BEGIN:VEVENT
UID:9966@pilgrimchurch.us
DTSTART;TZID=America/New_York;VALUE=DATE:20250901
DTEND;TZID=America/New_York;VALUE=DATE:20250902
DTSTAMP:20250520T203921Z
URL:https://pilgrimchurch.us/calendar/labor-day-holiday-2/
SUMMARY:Labor Day Holiday
DESCRIPTION:Labor Day Holiday
CATEGORIES:General Pilgrim Church
END:VEVENT
BEGIN:VTIMEZONE
TZID:America/New_York
X-LIC-LOCATION:America/New_York
BEGIN:DAYLIGHT
DTSTART:20250309T030000
TZOFFSETFROM:-0500
TZOFFSETTO:-0400
TZNAME:EDT
END:DAYLIGHT
END:VTIMEZONE
END:VCALENDAR