BEGIN:VCALENDAR
VERSION:2.0
PRODID:-//wp-events-plugin.com//7.2.3.1//EN
BEGIN:VEVENT
UID:11266@pilgrimchurch.us
DTSTART;TZID=America/New_York:20260329T113000
DTEND;TZID=America/New_York:20260329T123000
DTSTAMP:20260210T164013Z
URL:https://pilgrimchurch.us/calendar/lenten-series-2026-02-22-2026-03-01-
 2026-03-08-2026-03-15-2026-03-22-2026-03-29/
SUMMARY:Lenten Series
DESCRIPTION:This Lent Pastor Charley will lead Bible Conversations and a sp
 ecial after-church session in discussion of this great new book! It's call
 ed\, "We See You?" by Elizabeth Mae Magill.
CATEGORIES:General Pilgrim Church
LOCATION:Pilgrim Church Parlor\, 15 Common St\, Southborough\, MA\, 01772\,
  United States
GEO:42.3064043;-71.5315966
X-APPLE-STRUCTURED-LOCATION;VALUE=URI;X-ADDRESS=15 Common St\, Southborough
 \, MA\, 01772\, United States;X-APPLE-RADIUS=100;X-TITLE=Pilgrim Church Pa
 rlor:geo:42.3064043,-71.5315966
END:VEVENT
BEGIN:VTIMEZONE
TZID:America/New_York
X-LIC-LOCATION:America/New_York
BEGIN:DAYLIGHT
DTSTART:20260308T030000
TZOFFSETFROM:-0500
TZOFFSETTO:-0400
TZNAME:EDT
END:DAYLIGHT
END:VTIMEZONE
END:VCALENDAR