BEGIN:VCALENDAR
VERSION:2.0
PRODID:-//wp-events-plugin.com//7.2.3.1//EN
BEGIN:VEVENT
UID:11261@pilgrimchurch.us
DTSTART;TZID=America/New_York:20260222T113000
DTEND;TZID=America/New_York:20260222T123000
DTSTAMP:20260210T164013Z
URL:https://pilgrimchurch.us/calendar/lenten-series-2026-02-22/
SUMMARY:Lenten Series
DESCRIPTION:This Lent Pastor Charley will lead Bible Conversations and a sp
 ecial after-church session in discussion of this great new book! It's call
 ed\, "We See You?" by Elizabeth Mae Magill.
CATEGORIES:General Pilgrim Church
LOCATION:Pilgrim Church Parlor\, 15 Common St\, Southborough\, MA\, 01772\,
  United States
GEO:42.3064043;-71.5315966
X-APPLE-STRUCTURED-LOCATION;VALUE=URI;X-ADDRESS=15 Common St\, Southborough
 \, MA\, 01772\, United States;X-APPLE-RADIUS=100;X-TITLE=Pilgrim Church Pa
 rlor:geo:42.3064043,-71.5315966
END:VEVENT
BEGIN:VTIMEZONE
TZID:America/New_York
X-LIC-LOCATION:America/New_York
BEGIN:STANDARD
DTSTART:20251102T010000
TZOFFSETFROM:-0400
TZOFFSETTO:-0500
TZNAME:EST
END:STANDARD
END:VTIMEZONE
END:VCALENDAR