BEGIN:VCALENDAR
VERSION:2.0
PRODID:-//wp-events-plugin.com//7.2.3.1//EN
BEGIN:VEVENT
UID:10074@pilgrimchurch.us
DTSTART;TZID=America/New_York:20260506T123000
DTEND;TZID=America/New_York:20260506T133000
DTSTAMP:20250811T153748Z
URL:https://pilgrimchurch.us/calendar/lunch-bunch-4-2025-09-03-2025-10-01-
 2025-11-05-2025-12-03-2026-01-07-2026-02-04-2026-03-04-2026-04-01-2026-05-
 06/
SUMMARY:Lunch Bunch
DESCRIPTION:A Brown Bag lunch on the first Wednesday of the month\n\n\n\n\n
 \n 	WHO? You\, if you’re reading this. Also Rev. Charley Eastman!\nWHAT?
  A chance to bring a bite\, sit and chat about whatever’s on your mind. 
 Friends\, faith\, and fellowship just make life better. Nothing to prepare
 \, except your lunch!\n 	WHERE? In the Church Office for now\, and out in 
 the garden on our new picnic table once the weather gets a little milder (
 and drier).\nWHEN? First Wednesdays of each month at 12:30 pm.\n 	WHY? Bec
 ause we enjoy one another’s company\, and it’s nice to have a spot to 
 gather. We’ll have grace\, eat lunch\, and see where our conversations t
 ake us. No taboos\, no worries\, no sweat! See you there.\n 	WHY? Because 
 we enjoy one another’s company\, and it’s nice to have a spot to gathe
 r. We’ll have grace\, eat lunch\, and see where our conversations take u
 s. No taboos\, no worries\, no sweat! See you there.\n\n\n\n\n
CATEGORIES:General Pilgrim Church
LOCATION:Pilgrim Church Office\, 15 Common St\, Southborough\, MA\, 01772\,
  United States
GEO:42.306404;-71.531597
X-APPLE-STRUCTURED-LOCATION;VALUE=URI;X-ADDRESS=15 Common St\, Southborough
 \, MA\, 01772\, United States;X-APPLE-RADIUS=100;X-TITLE=Pilgrim Church Of
 fice:geo:42.306404,-71.531597
END:VEVENT
BEGIN:VTIMEZONE
TZID:America/New_York
X-LIC-LOCATION:America/New_York
BEGIN:DAYLIGHT
DTSTART:20260308T030000
TZOFFSETFROM:-0500
TZOFFSETTO:-0400
TZNAME:EDT
END:DAYLIGHT
END:VTIMEZONE
END:VCALENDAR