BEGIN:VCALENDAR
VERSION:2.0
PRODID:-//wp-events-plugin.com//7.2.3.1//EN
BEGIN:VEVENT
UID:11268@pilgrimchurch.us
DTSTART;TZID=America/New_York:20260402T180000
DTEND;TZID=America/New_York:20260402T190000
DTSTAMP:20260210T164733Z
URL:https://pilgrimchurch.us/calendar/maundy-thursday-supper-5/
SUMMARY:Maundy Thursday Supper
DESCRIPTION:Maundy Thursday Supper
CATEGORIES:General Pilgrim Church
LOCATION:Pilgrim Congregational Church\, 15 Common St\, Southborough\, MA\,
  01772\, United States
GEO:42.306404;-71.531597
X-APPLE-STRUCTURED-LOCATION;VALUE=URI;X-ADDRESS=15 Common St\, Southborough
 \, MA\, 01772\, United States;X-APPLE-RADIUS=100;X-TITLE=Pilgrim Congregat
 ional Church:geo:42.306404,-71.531597
END:VEVENT
BEGIN:VTIMEZONE
TZID:America/New_York
X-LIC-LOCATION:America/New_York
BEGIN:DAYLIGHT
DTSTART:20260308T030000
TZOFFSETFROM:-0500
TZOFFSETTO:-0400
TZNAME:EDT
END:DAYLIGHT
END:VTIMEZONE
END:VCALENDAR