BEGIN:VCALENDAR
VERSION:2.0
PRODID:-//wp-events-plugin.com//7.2.3.1//EN
BEGIN:VEVENT
UID:9981@pilgrimchurch.us
DTSTART;TZID=America/New_York:20251203T190000
DTEND;TZID=America/New_York:20251203T210000
DTSTAMP:20250527T185944Z
URL:https://pilgrimchurch.us/calendar/messiah-rehearal/
SUMMARY:Messiah Rehearal
DESCRIPTION:Messiah Rehearal
CATEGORIES:Small Groups
LOCATION:Pilgrim Church Sanctuary\, 15 Common St\, Southborough\, MA\, 0177
 2\, United States
GEO:42.3064043;-71.5315966
X-APPLE-STRUCTURED-LOCATION;VALUE=URI;X-ADDRESS=15 Common St\, Southborough
 \, MA\, 01772\, United States;X-APPLE-RADIUS=100;X-TITLE=Pilgrim Church Sa
 nctuary:geo:42.3064043,-71.5315966
END:VEVENT
BEGIN:VTIMEZONE
TZID:America/New_York
X-LIC-LOCATION:America/New_York
BEGIN:STANDARD
DTSTART:20251102T010000
TZOFFSETFROM:-0400
TZOFFSETTO:-0500
TZNAME:EST
END:STANDARD
END:VTIMEZONE
END:VCALENDAR