BEGIN:VCALENDAR
VERSION:2.0
PRODID:-//wp-events-plugin.com//7.2.3.1//EN
BEGIN:VEVENT
UID:11274@pilgrimchurch.us
DTSTART;TZID=America/New_York:20260510T113000
DTEND;TZID=America/New_York:20260510T123000
DTSTAMP:20260212T154308Z
URL:https://pilgrimchurch.us/calendar/music-committee-meeting-13-2026-03-0
 8-2026-04-12-2026-05-10/
SUMMARY:Music Committee Meeting
DESCRIPTION:Music Committee Meeting (Ben Douglas)
CATEGORIES:Committee Meetiings
LOCATION:Pilgrim Church Music Room\, 15 Common St\, Southborough\, MA\, 017
 72\, United States
GEO:42.306404;-71.531597
X-APPLE-STRUCTURED-LOCATION;VALUE=URI;X-ADDRESS=15 Common St\, Southborough
 \, MA\, 01772\, United States;X-APPLE-RADIUS=100;X-TITLE=Pilgrim Church Mu
 sic Room:geo:42.306404,-71.531597
END:VEVENT
BEGIN:VTIMEZONE
TZID:America/New_York
X-LIC-LOCATION:America/New_York
BEGIN:DAYLIGHT
DTSTART:20260308T030000
TZOFFSETFROM:-0500
TZOFFSETTO:-0400
TZNAME:EDT
END:DAYLIGHT
END:VTIMEZONE
END:VCALENDAR