BEGIN:VCALENDAR
VERSION:2.0
PRODID:-//wp-events-plugin.com//7.2.3.1//EN
BEGIN:VEVENT
UID:10056@pilgrimchurch.us
DTSTART;TZID=America/New_York:20250808T120000
DTEND;TZID=America/New_York:20250808T180000
DTSTAMP:20250702T175147Z
URL:https://pilgrimchurch.us/calendar/music-lessons-2025-07-11-2025-07-18-
 2025-07-25-2025-08-01-2025-08-08/
SUMMARY:Music Lessons
DESCRIPTION:Music Lessons (Bronwyn Pappas-Byers)
CATEGORIES:Outside Groups
LOCATION:Pilgrim Church Music Room\, 15 Common St\, Southborough\, MA\, 017
 72\, United States
GEO:42.306404;-71.531597
X-APPLE-STRUCTURED-LOCATION;VALUE=URI;X-ADDRESS=15 Common St\, Southborough
 \, MA\, 01772\, United States;X-APPLE-RADIUS=100;X-TITLE=Pilgrim Church Mu
 sic Room:geo:42.306404,-71.531597
END:VEVENT
BEGIN:VTIMEZONE
TZID:America/New_York
X-LIC-LOCATION:America/New_York
BEGIN:DAYLIGHT
DTSTART:20250309T030000
TZOFFSETFROM:-0500
TZOFFSETTO:-0400
TZNAME:EDT
END:DAYLIGHT
END:VTIMEZONE
END:VCALENDAR