BEGIN:VCALENDAR
VERSION:2.0
PRODID:-//wp-events-plugin.com//7.2.3.1//EN
BEGIN:VEVENT
UID:11259@pilgrimchurch.us
DTSTART;TZID=America/New_York:20260228T170000
DTEND;TZID=America/New_York:20260228T190000
DTSTAMP:20260209T182643Z
URL:https://pilgrimchurch.us/calendar/neighbors-for-peace-ramadan-dinner/
SUMMARY:Neighbors for Peace Ramadan Dinner
DESCRIPTION:Neighbors for Peace Ramadan Dinner (Breaking the Fast)
CATEGORIES:Outside Groups
LOCATION:Pilgrim Church Fellowship Hall & Kitchen\, 15 Common Street\, Sout
 hborough\, MA\, 01772\, United States
X-APPLE-STRUCTURED-LOCATION;VALUE=URI;X-ADDRESS=15 Common Street\, Southbor
 ough\, MA\, 01772\, United States;X-APPLE-RADIUS=100;X-TITLE=Pilgrim Churc
 h Fellowship Hall & Kitchen:geo:0,0
END:VEVENT
BEGIN:VTIMEZONE
TZID:America/New_York
X-LIC-LOCATION:America/New_York
BEGIN:STANDARD
DTSTART:20251102T010000
TZOFFSETFROM:-0400
TZOFFSETTO:-0500
TZNAME:EST
END:STANDARD
END:VTIMEZONE
END:VCALENDAR