BEGIN:VCALENDAR
VERSION:2.0
PRODID:-//wp-events-plugin.com//7.2.3.1//EN
BEGIN:VEVENT
UID:2688@pilgrimchurch.us
DTSTART:20190205T210000Z
DTEND:20191203T220000Z
DTSTAMP:20190116T175449Z
URL:https://pilgrimchurch.us/event-recurring/our-fathers-table-2/
SUMMARY:Our Father's Table
DESCRIPTION:A group of 19 churches who serve meals to the needy 3 times a w
 eek at the New Hope Church\, 204 Main Street in Marlborough.  Our respon
 sibility is the first Tuesday of each month for which we need people to co
 ok and serve.
CATEGORIES:Outreach
LOCATION:New Hope Community Church\, 204 Main St\, Marlborough\, MA\, 01752
 \, United States
GEO:42.34634;-71.549988
X-APPLE-STRUCTURED-LOCATION;VALUE=URI;X-ADDRESS=204 Main St\, Marlborough\,
  MA\, 01752\, United States;X-APPLE-RADIUS=100;X-TITLE=New Hope Community 
 Church:geo:42.34634,-71.549988
END:VEVENT
END:VCALENDAR