BEGIN:VCALENDAR
VERSION:2.0
PRODID:-//wp-events-plugin.com//7.2.3.1//EN
BEGIN:VEVENT
UID:11284@pilgrimchurch.us
DTSTART;TZID=America/New_York:20260510T193000
DTEND;TZID=America/New_York:20260510T203000
DTSTAMP:20260212T154756Z
URL:https://pilgrimchurch.us/calendar/outreach-committee-meeting-9-2026-03
 -08-2026-04-12-2026-05-10/
SUMMARY:Outreach Committee Meeting
DESCRIPTION:Outreach Committee Meeting (Carol Cullen/Diane Wallace)
CATEGORIES:Committee Meetiings
END:VEVENT
BEGIN:VTIMEZONE
TZID:America/New_York
X-LIC-LOCATION:America/New_York
BEGIN:DAYLIGHT
DTSTART:20260308T030000
TZOFFSETFROM:-0500
TZOFFSETTO:-0400
TZNAME:EDT
END:DAYLIGHT
END:VTIMEZONE
END:VCALENDAR