BEGIN:VCALENDAR
VERSION:2.0
PRODID:-//wp-events-plugin.com//7.2.3.1//EN
BEGIN:VEVENT
UID:9994@pilgrimchurch.us
DTSTART;TZID=America/New_York:20251113T083000
DTEND;TZID=America/New_York:20251113T130000
DTSTAMP:20250602T161614Z
URL:https://pilgrimchurch.us/calendar/southboro-garden-club-guest-day/
SUMMARY:Southboro Garden Club Guest Day
DESCRIPTION:Southboro Garden Club Guest Day (Michele Landes)
CATEGORIES:Outside Groups
LOCATION:Pilgrim Church Hall & Kitchen\, 15 Common Street\, Southborough\, 
 MA\, 01772\, United States
X-APPLE-STRUCTURED-LOCATION;VALUE=URI;X-ADDRESS=15 Common Street\, Southbor
 ough\, MA\, 01772\, United States;X-APPLE-RADIUS=100;X-TITLE=Pilgrim Churc
 h Hall & Kitchen:geo:0,0
END:VEVENT
BEGIN:VTIMEZONE
TZID:America/New_York
X-LIC-LOCATION:America/New_York
BEGIN:STANDARD
DTSTART:20251102T010000
TZOFFSETFROM:-0400
TZOFFSETTO:-0500
TZNAME:EST
END:STANDARD
END:VTIMEZONE
END:VCALENDAR