BEGIN:VCALENDAR
VERSION:2.0
PRODID:-//wp-events-plugin.com//7.2.3.1//EN
BEGIN:VEVENT
UID:11331@pilgrimchurch.us
DTSTART;TZID=America/New_York:20260503T113000
DTEND;TZID=America/New_York:20260503T133000
DTSTAMP:20260310T155948Z
URL:https://pilgrimchurch.us/calendar/spring-clean-up/
SUMMARY:Spring Clean Up
DESCRIPTION:Spring Clean Up
CATEGORIES:General Pilgrim Church
LOCATION:Pilgrim Church\, 15 Common Street\, Southborough\, MA\, 01772\, Un
 ited States
X-APPLE-STRUCTURED-LOCATION;VALUE=URI;X-ADDRESS=15 Common Street\, Southbor
 ough\, MA\, 01772\, United States;X-APPLE-RADIUS=100;X-TITLE=Pilgrim Churc
 h:geo:0,0
END:VEVENT
BEGIN:VTIMEZONE
TZID:America/New_York
X-LIC-LOCATION:America/New_York
BEGIN:DAYLIGHT
DTSTART:20260308T030000
TZOFFSETFROM:-0500
TZOFFSETTO:-0400
TZNAME:EDT
END:DAYLIGHT
END:VTIMEZONE
END:VCALENDAR