BEGIN:VCALENDAR
VERSION:2.0
PRODID:-//wp-events-plugin.com//7.2.3.1//EN
BEGIN:VEVENT
UID:11325@pilgrimchurch.us
DTSTART;TZID=America/New_York:20260324T000000
DTEND;TZID=America/New_York:20260324T000000
DTSTAMP:20260304T164804Z
URL:https://pilgrimchurch.us/calendar/united-parishes-meeting-15/
SUMMARY:United Parishes Meeting
DESCRIPTION:United Parishes Meeting
CATEGORIES:Outside Groups
LOCATION:Pilgrim Church Parlor\, 15 Common St\, Southborough\, MA\, 01772\,
  United States
GEO:42.3064043;-71.5315966
X-APPLE-STRUCTURED-LOCATION;VALUE=URI;X-ADDRESS=15 Common St\, Southborough
 \, MA\, 01772\, United States;X-APPLE-RADIUS=100;X-TITLE=Pilgrim Church Pa
 rlor:geo:42.3064043,-71.5315966
END:VEVENT
BEGIN:VTIMEZONE
TZID:America/New_York
X-LIC-LOCATION:America/New_York
BEGIN:DAYLIGHT
DTSTART:20260308T030000
TZOFFSETFROM:-0500
TZOFFSETTO:-0400
TZNAME:EDT
END:DAYLIGHT
END:VTIMEZONE
END:VCALENDAR