BEGIN:VCALENDAR
VERSION:2.0
PRODID:-//wp-events-plugin.com//7.2.3.1//EN
BEGIN:VEVENT
UID:10099@pilgrimchurch.us
DTSTART;TZID=America/New_York:20250921T113000
DTEND;TZID=America/New_York:20250921T123000
DTSTAMP:20250811T161145Z
URL:https://pilgrimchurch.us/calendar/womens-fellowship-meeting-2-2025-09-
 21/
SUMMARY:Women's Fellowship Meeting
DESCRIPTION:Women's Fellowship Meeting-Women of the church who meet after c
 hurch twice a month to plan various activities such as Heritage Day "Holy 
 Spuds"\, fleece mitten workshops\, as well as supporting various activitie
 s such as the Chicken BBQ\, Messiah reception\, collations\, etc.
CATEGORIES:Small Groups
LOCATION:Pilgrim Church Parlor\, 15 Common St\, Southborough\, MA\, 01772\,
  United States
GEO:42.3064043;-71.5315966
X-APPLE-STRUCTURED-LOCATION;VALUE=URI;X-ADDRESS=15 Common St\, Southborough
 \, MA\, 01772\, United States;X-APPLE-RADIUS=100;X-TITLE=Pilgrim Church Pa
 rlor:geo:42.3064043,-71.5315966
END:VEVENT
BEGIN:VTIMEZONE
TZID:America/New_York
X-LIC-LOCATION:America/New_York
BEGIN:DAYLIGHT
DTSTART:20250309T030000
TZOFFSETFROM:-0500
TZOFFSETTO:-0400
TZNAME:EDT
END:DAYLIGHT
END:VTIMEZONE
END:VCALENDAR