BEGIN:VCALENDAR
VERSION:2.0
PRODID:-//wp-events-plugin.com//7.2.3.1//EN
BEGIN:VEVENT
UID:10097@pilgrimchurch.us
DTSTART;TZID=America/New_York:20260607T113000
DTEND;TZID=America/New_York:20260607T123000
DTSTAMP:20250811T161017Z
URL:https://pilgrimchurch.us/calendar/womens-fellowship-meeting-2025-10-05
 -2025-11-02-2025-12-07-2026-01-04-2026-02-01-2026-03-01-2026-04-05-2026-05
 -03-2026-06-07/
SUMMARY:Women's Fellowship Meeting
DESCRIPTION:Women's Fellowship Meeting-Women of the church who meet after c
 hurch twice a month to plan various activities such as Heritage Day "Holy 
 Spuds"\, fleece mitten workshops\, as well as supporting various activitie
 s such as the Chicken BBQ\, Messiah reception\, collations\, etc.\n\n 
CATEGORIES:Small Groups
LOCATION:Pilgrim Church Parlor\, 15 Common St\, Southborough\, MA\, 01772\,
  United States
GEO:42.3064043;-71.5315966
X-APPLE-STRUCTURED-LOCATION;VALUE=URI;X-ADDRESS=15 Common St\, Southborough
 \, MA\, 01772\, United States;X-APPLE-RADIUS=100;X-TITLE=Pilgrim Church Pa
 rlor:geo:42.3064043,-71.5315966
END:VEVENT
BEGIN:VTIMEZONE
TZID:America/New_York
X-LIC-LOCATION:America/New_York
BEGIN:DAYLIGHT
DTSTART:20260308T030000
TZOFFSETFROM:-0500
TZOFFSETTO:-0400
TZNAME:EDT
END:DAYLIGHT
END:VTIMEZONE
END:VCALENDAR